BEGIN:VCALENDAR
VERSION:2.0
PRODID:-//Station Zuid - ECPv6.11.2.1//NONSGML v1.0//EN
CALSCALE:GREGORIAN
METHOD:PUBLISH
X-WR-CALNAME:Station Zuid
X-ORIGINAL-URL:https://stationzuid.nu
X-WR-CALDESC:Evenementen voor Station Zuid
REFRESH-INTERVAL;VALUE=DURATION:PT1H
X-Robots-Tag:noindex
X-PUBLISHED-TTL:PT1H
BEGIN:VTIMEZONE
TZID:Europe/Amsterdam
BEGIN:DAYLIGHT
TZOFFSETFROM:+0100
TZOFFSETTO:+0200
TZNAME:CEST
DTSTART:20250330T010000
END:DAYLIGHT
BEGIN:STANDARD
TZOFFSETFROM:+0200
TZOFFSETTO:+0100
TZNAME:CET
DTSTART:20251026T010000
END:STANDARD
END:VTIMEZONE
BEGIN:VEVENT
DTSTART;TZID=Europe/Amsterdam:20250510T210000
DTEND;TZID=Europe/Amsterdam:20250510T235500
DTSTAMP:20260425T192953
CREATED:20241028T135709Z
LAST-MODIFIED:20241028T135709Z
UID:6798-1746910800-1746921300@stationzuid.nu
SUMMARY:YADA YADA (Herman Brood Tribute)
DESCRIPTION:YADA YADA heeft zich ontwikkeld tot de meest treffende band in het Herman Brood segment. De benaming “tribute” band is bij deze band niet meer van toepassing. Zo was Dany Lademacher in 2009 de gitarist bij de band. Na vier jaar de zanger en het gezicht te zijn geweest van de originele band van Brood\, de Wild Romance\, besluit Stick (Ronald van Beest) in 2016 weer met zijn oude band te gaan toeren. Een overvolle agenda is het gevolg. Waarom? De mensen willen toch een ‘vleugje’ Herman terug zien! Stick benadrukt dat hij beslist géén Herman is\, wil zijn of pretendeert te zijn. \nWat is er zo anders aan YADA YADA? Het antwoord hierop is puur de kwaliteit. In de basis spelen gitarist Len Ruygrok\, bassist Johnny Vain en drummer Mr. Tumansery. Zanger Stick (ex The (Wild) Romance)\, die een zeer nauwe band had met Herman\, weet als geen ander Brood op het podium te doen herleven. \nDeze band doet Herman Brood & His Wild Romance herleven!! \nYADA YADA is hot! \nYADA YADA is op dit moment DE HERMAN BROOD TRIBUTE BAND in Nederland. Met frontman Stick ( ex Wild Romance) is er geen betere Tribute band die het origineel zo dicht benaderd. Een show waar we terug gaan naar de jaren ’70/‘80 waarin Herman Brood & His Wild Romance op zijn top was. \nUp tempo Rock ’n’ Roll met een setlist van ruim 40 Brood songs. Met zanger Stick\, die een goede band had met Herman\, waant het publiek zich weer in de top jaren van Herman Brood & His Wild Romance. Een avond vol herinneringen met een feest van herkenning.
URL:https://stationzuid.nu/event/yada-yada-herman-brood-tribute/
LOCATION:Kelderpodium
CATEGORIES:Live optreden
ATTACH;FMTTYPE=image/png:https://stationzuid.nu/wp-content/uploads/2024/10/Yada-Yada-mei-2025.png
END:VEVENT
END:VCALENDAR