BEGIN:VCALENDAR
VERSION:2.0
PRODID:-//Station Zuid - ECPv6.11.2.1//NONSGML v1.0//EN
CALSCALE:GREGORIAN
METHOD:PUBLISH
X-WR-CALNAME:Station Zuid
X-ORIGINAL-URL:https://stationzuid.nu
X-WR-CALDESC:Evenementen voor Station Zuid
REFRESH-INTERVAL;VALUE=DURATION:PT1H
X-Robots-Tag:noindex
X-PUBLISHED-TTL:PT1H
BEGIN:VTIMEZONE
TZID:Europe/Amsterdam
BEGIN:DAYLIGHT
TZOFFSETFROM:+0100
TZOFFSETTO:+0200
TZNAME:CEST
DTSTART:20260329T010000
END:DAYLIGHT
BEGIN:STANDARD
TZOFFSETFROM:+0200
TZOFFSETTO:+0100
TZNAME:CET
DTSTART:20261025T010000
END:STANDARD
END:VTIMEZONE
BEGIN:VEVENT
DTSTART;TZID=Europe/Amsterdam:20260509T210000
DTEND;TZID=Europe/Amsterdam:20260509T235500
DTSTAMP:20260420T053910
CREATED:20260318T185636Z
LAST-MODIFIED:20260318T185738Z
UID:18819-1778360400-1778370900@stationzuid.nu
SUMMARY:Punkavond met Xray Vez (UK) & No Breakfast Goodbye (Nijmegen)
DESCRIPTION:De zangeres\, de drummer en de bassist die kennen we toch van Wonk Unit? Klopt\, maar dit is Xray Vez. \nXray Vez maakt punky poppy liedjes over paardenmeisjes\, jongens met slechte tattoos en kerels in busjes. Onder de schijnbare flauwekul is haar muziek openbarend\, vol kindertijd nostalgie en vleugjes van kwetsbare momenten in het leven. Verwacht grillige teksten\, pakkende melodieën en je kan zo maar thuiskomen met een van haar groene haren op je jas (sorry ze duiken overal op). \nSupport: No Breakfast Goodbye is a fast\, loud and melodic pop/skate-punk band from Nijmegen\, the Netherlands. Formed in 2019\, the band quickly built a reputation for energetic live shows and catchy\, high-speed songs that blend the spirit of classic bands like NOFX and blink-182 with the modern punch of acts like Trash Boat and Neck Deep. \nThe band consists of Simon (vocals/guitar)\, Chef (guitar/vocals)\, Jord (bass/vocals) and Teun (drums). Together they deliver fast riffs\, big hooks and a live show that hits somewhere between controlled chaos and pure fun. \nSince their formation the band has shared stages with acts such as Chaser\, Wonk Unit and Captain Kaiser. During the pandemic they released a well-received split EP with their friends from Ink Bomb. \nIn 2022 they dropped the singles Leave The Seat Up and Swimming With Sharks\, followed by several shows in the UK. The band is currently working on their debut album.
URL:https://stationzuid.nu/event/punkavond-met-xray-vez-uk-no-breakfast-goodbye-nijmegen/
LOCATION:Kelderpodium
CATEGORIES:Live optreden
ATTACH;FMTTYPE=image/png:https://stationzuid.nu/wp-content/uploads/2026/03/Xray-Vez-mei-2026.png
END:VEVENT
END:VCALENDAR